BEGIN:VCALENDAR
VERSION:2.0
PRODID:-//The Association of Deans of Economic Faculties - ECPv6.15.20//NONSGML v1.0//EN
CALSCALE:GREGORIAN
METHOD:PUBLISH
X-WR-CALNAME:The Association of Deans of Economic Faculties
X-ORIGINAL-URL:https://dekanief.cz/en
X-WR-CALDESC:Events for The Association of Deans of Economic Faculties
REFRESH-INTERVAL;VALUE=DURATION:PT1H
X-Robots-Tag:noindex
X-PUBLISHED-TTL:PT1H
BEGIN:VTIMEZONE
TZID:Europe/Prague
BEGIN:DAYLIGHT
TZOFFSETFROM:+0100
TZOFFSETTO:+0200
TZNAME:CEST
DTSTART:20210328T010000
END:DAYLIGHT
BEGIN:STANDARD
TZOFFSETFROM:+0200
TZOFFSETTO:+0100
TZNAME:CET
DTSTART:20211031T010000
END:STANDARD
BEGIN:DAYLIGHT
TZOFFSETFROM:+0100
TZOFFSETTO:+0200
TZNAME:CEST
DTSTART:20220327T010000
END:DAYLIGHT
BEGIN:STANDARD
TZOFFSETFROM:+0200
TZOFFSETTO:+0100
TZNAME:CET
DTSTART:20221030T010000
END:STANDARD
BEGIN:DAYLIGHT
TZOFFSETFROM:+0100
TZOFFSETTO:+0200
TZNAME:CEST
DTSTART:20230326T010000
END:DAYLIGHT
BEGIN:STANDARD
TZOFFSETFROM:+0200
TZOFFSETTO:+0100
TZNAME:CET
DTSTART:20231029T010000
END:STANDARD
BEGIN:DAYLIGHT
TZOFFSETFROM:+0100
TZOFFSETTO:+0200
TZNAME:CEST
DTSTART:20240331T010000
END:DAYLIGHT
BEGIN:STANDARD
TZOFFSETFROM:+0200
TZOFFSETTO:+0100
TZNAME:CET
DTSTART:20241027T010000
END:STANDARD
END:VTIMEZONE
BEGIN:VEVENT
DTSTART;TZID=Europe/Prague:20231123T100000
DTEND;TZID=Europe/Prague:20231123T120000
DTSTAMP:20260421T104629
CREATED:20230511T063249Z
LAST-MODIFIED:20230511T063249Z
UID:210-1700733600-1700740800@dekanief.cz
SUMMARY:Scientific Council of EF JČU
DESCRIPTION:
URL:https://dekanief.cz/en/event/scientific-council-of-ef-jcu/
END:VEVENT
BEGIN:VEVENT
DTSTART;TZID=Europe/Prague:20231116T110000
DTEND;TZID=Europe/Prague:20231116T170000
DTSTAMP:20260421T104629
CREATED:20230723T201734Z
LAST-MODIFIED:20230723T204818Z
UID:215-1700132400-1700154000@dekanief.cz
SUMMARY:Scientific Council of SU OPF Karvina
DESCRIPTION:
URL:https://dekanief.cz/en/event/scientific-council-of-su-opf-karvina-2/
END:VEVENT
BEGIN:VEVENT
DTSTART;TZID=Europe/Prague:20231109T110000
DTEND;TZID=Europe/Prague:20231109T120000
DTSTAMP:20260421T104629
CREATED:20221207T222239Z
LAST-MODIFIED:20221207T222239Z
UID:148-1699527600-1699531200@dekanief.cz
SUMMARY:Scientific Council of FSE UJEP
DESCRIPTION:
URL:https://dekanief.cz/en/event/scientific-council-of-fse-ujep-2/
END:VEVENT
BEGIN:VEVENT
DTSTART;TZID=Europe/Prague:20231108T100000
DTEND;TZID=Europe/Prague:20231108T143000
DTSTAMP:20260421T104629
CREATED:20230510T124435Z
LAST-MODIFIED:20230511T063209Z
UID:208-1699437600-1699453800@dekanief.cz
SUMMARY:Scientific Council of FM VŠE
DESCRIPTION:
URL:https://dekanief.cz/en/event/scientific-council-of-fm-vse/
END:VEVENT
BEGIN:VEVENT
DTSTART;TZID=Europe/Prague:20231019T100000
DTEND;TZID=Europe/Prague:20231019T130000
DTSTAMP:20260421T104629
CREATED:20231023T222008Z
LAST-MODIFIED:20231023T222312Z
UID:235-1697709600-1697720400@dekanief.cz
SUMMARY:Scientific Council of EF JČU
DESCRIPTION:
URL:https://dekanief.cz/en/event/scientific-council-of-ef-jcu-3/
END:VEVENT
BEGIN:VEVENT
DTSTART;TZID=Europe/Prague:20231012T100000
DTEND;TZID=Europe/Prague:20231012T120000
DTSTAMP:20260421T104629
CREATED:20230511T063334Z
LAST-MODIFIED:20230511T063334Z
UID:212-1697104800-1697112000@dekanief.cz
SUMMARY:Scientific Council of EF JČU
DESCRIPTION:
URL:https://dekanief.cz/en/event/scientific-council-of-ef-jcu-2/
END:VEVENT
BEGIN:VEVENT
DTSTART;TZID=Europe/Prague:20231005T100000
DTEND;TZID=Europe/Prague:20231005T130000
DTSTAMP:20260421T104629
CREATED:20230411T065139Z
LAST-MODIFIED:20230411T065635Z
UID:197-1696500000-1696510800@dekanief.cz
SUMMARY:4rd Meeting of the Association of Deans of Economic Faculties; ESF MUNI Brno
DESCRIPTION:
URL:https://dekanief.cz/en/event/4rd-meeting-of-the-association-of-deans-of-economic-faculties-esf-muni-brno/
END:VEVENT
BEGIN:VEVENT
DTSTART;TZID=Europe/Prague:20230622T110000
DTEND;TZID=Europe/Prague:20230622T150000
DTSTAMP:20260421T104629
CREATED:20230322T135351Z
LAST-MODIFIED:20230322T135351Z
UID:175-1687431600-1687446000@dekanief.cz
SUMMARY:Scientific Council of SU OPF Karvina
DESCRIPTION:
URL:https://dekanief.cz/en/event/scientific-council-of-su-opf-karvina/
END:VEVENT
BEGIN:VEVENT
DTSTART;TZID=Europe/Prague:20230622T100000
DTEND;TZID=Europe/Prague:20230622T140000
DTSTAMP:20260421T104629
CREATED:20221111T081604Z
LAST-MODIFIED:20221111T081604Z
UID:135-1687428000-1687442400@dekanief.cz
SUMMARY:Scientific Council of PEF MENDELU
DESCRIPTION:
URL:https://dekanief.cz/en/event/scientific-council-of-pef-mendelu/
END:VEVENT
BEGIN:VEVENT
DTSTART;TZID=Europe/Prague:20230614T090000
DTEND;TZID=Europe/Prague:20230614T140000
DTSTAMP:20260421T104629
CREATED:20221221T111851Z
LAST-MODIFIED:20221221T111851Z
UID:151-1686733200-1686751200@dekanief.cz
SUMMARY:Scientific Council of FFÚ VŠE
DESCRIPTION:
URL:https://dekanief.cz/en/event/scientific-council-of-ffu-vse/
END:VEVENT
BEGIN:VEVENT
DTSTART;TZID=Europe/Prague:20230601T080000
DTEND;TZID=Europe/Prague:20230602T170000
DTSTAMP:20260421T104629
CREATED:20221221T112005Z
LAST-MODIFIED:20221221T112038Z
UID:153-1685606400-1685725200@dekanief.cz
SUMMARY:Conference ACFA 2023
DESCRIPTION:
URL:https://dekanief.cz/en/event/conference-acfa-2023/
END:VEVENT
BEGIN:VEVENT
DTSTART;TZID=Europe/Prague:20230428T080000
DTEND;TZID=Europe/Prague:20230428T170000
DTSTAMP:20260421T104629
CREATED:20230117T125151Z
LAST-MODIFIED:20230117T125151Z
UID:157-1682668800-1682701200@dekanief.cz
SUMMARY:Scientific Council of FES UPCE
DESCRIPTION:
URL:https://dekanief.cz/en/event/scientific-council-of-fes-upce/
END:VEVENT
BEGIN:VEVENT
DTSTART;TZID=Europe/Prague:20230412T100000
DTEND;TZID=Europe/Prague:20230412T140000
DTSTAMP:20260421T104629
CREATED:20230209T074000Z
LAST-MODIFIED:20230209T074000Z
UID:169-1681293600-1681308000@dekanief.cz
SUMMARY:Scientific Council of FIM UHK
DESCRIPTION:
URL:https://dekanief.cz/en/event/scientific-council-of-fim-uhk/
END:VEVENT
BEGIN:VEVENT
DTSTART;TZID=Europe/Prague:20230330T000000
DTEND;TZID=Europe/Prague:20230331T235959
DTSTAMP:20260421T104629
CREATED:20220912T134426Z
LAST-MODIFIED:20220912T134426Z
UID:44-1680134400-1680307199@dekanief.cz
SUMMARY:3rd Meeting of the Association of Deans of Economic Faculties
DESCRIPTION:3rd meeting takes place from 30 to 31 March 2023 in Prague (organized by FFA VŠE).
URL:https://dekanief.cz/en/event/3rd-meeting-of-the-association-of-deans-of-economic-faculties/
END:VEVENT
BEGIN:VEVENT
DTSTART;TZID=Europe/Prague:20230317T100000
DTEND;TZID=Europe/Prague:20230317T140000
DTSTAMP:20260421T104629
CREATED:20221110T081139Z
LAST-MODIFIED:20221114T100713Z
UID:131-1679047200-1679061600@dekanief.cz
SUMMARY:Scientific Council of Faculty of Management and Economics in Zlín
DESCRIPTION:
URL:https://dekanief.cz/en/event/scientific-council-of-faculty-of-management-and-economics-in-zlin-1/
LOCATION:Faculty of Management and Economics of Tomas Bata University in Zlín
END:VEVENT
BEGIN:VEVENT
DTSTART;TZID=Europe/Prague:20230316T110000
DTEND;TZID=Europe/Prague:20230316T120000
DTSTAMP:20260421T104629
CREATED:20221207T222111Z
LAST-MODIFIED:20221207T222111Z
UID:146-1678964400-1678968000@dekanief.cz
SUMMARY:Scientific Council of FSE UJEP
DESCRIPTION:
URL:https://dekanief.cz/en/event/scientific-council-of-fse-ujep/
END:VEVENT
BEGIN:VEVENT
DTSTART;TZID=Europe/Prague:20230223T190000
DTEND;TZID=Europe/Prague:20230223T233000
DTSTAMP:20260421T104629
CREATED:20221116T133402Z
LAST-MODIFIED:20221116T133402Z
UID:142-1677178800-1677195000@dekanief.cz
SUMMARY:30 let FIM UHK
DESCRIPTION:
URL:https://dekanief.cz/en/event/30-let-fim-uhk/
END:VEVENT
BEGIN:VEVENT
DTSTART;TZID=Europe/Prague:20221202T100000
DTEND;TZID=Europe/Prague:20221202T120000
DTSTAMP:20260421T104629
CREATED:20221101T074843Z
LAST-MODIFIED:20221101T074843Z
UID:119-1669975200-1669982400@dekanief.cz
SUMMARY:VR FES UPCE (Pardubice)
DESCRIPTION:
URL:https://dekanief.cz/en/event/vr-fes-upce-pardubice/
END:VEVENT
BEGIN:VEVENT
DTSTART;TZID=Europe/Prague:20221201T100000
DTEND;TZID=Europe/Prague:20221201T140000
DTSTAMP:20260421T104629
CREATED:20221116T133311Z
LAST-MODIFIED:20221116T133324Z
UID:140-1669888800-1669903200@dekanief.cz
SUMMARY:Scientific Council of EF TUL
DESCRIPTION:
URL:https://dekanief.cz/en/event/scientific-council-of-ef-tul/
END:VEVENT
BEGIN:VEVENT
DTSTART;TZID=Europe/Prague:20221124T103000
DTEND;TZID=Europe/Prague:20221124T130000
DTSTAMP:20260421T104629
CREATED:20221101T075034Z
LAST-MODIFIED:20221101T075034Z
UID:124-1669285800-1669294800@dekanief.cz
SUMMARY:Scientific Council of OPF SU in Karviná
DESCRIPTION:
URL:https://dekanief.cz/en/event/scientific-council-of-opf-su-in-karvina/
END:VEVENT
BEGIN:VEVENT
DTSTART;TZID=Europe/Prague:20221123T100000
DTEND;TZID=Europe/Prague:20221123T140000
DTSTAMP:20260421T104629
CREATED:20221121T084205Z
LAST-MODIFIED:20221121T084205Z
UID:144-1669197600-1669212000@dekanief.cz
SUMMARY:VR PEF ČZU
DESCRIPTION:
URL:https://dekanief.cz/en/event/vr-pef-czu/
END:VEVENT
BEGIN:VEVENT
DTSTART;TZID=Europe/Prague:20221111T100000
DTEND;TZID=Europe/Prague:20221111T140000
DTSTAMP:20260421T104629
CREATED:20221110T080932Z
LAST-MODIFIED:20221110T080932Z
UID:129-1668160800-1668175200@dekanief.cz
SUMMARY:Scientific Council of Faculty of Management and Economics in Zlín
DESCRIPTION:
URL:https://dekanief.cz/en/event/scientific-council-of-faculty-of-management-and-economics-in-zlin/
LOCATION:Faculty of Management and Economics of Tomas Bata University in Zlín
END:VEVENT
BEGIN:VEVENT
DTSTART;TZID=Europe/Prague:20221110T120000
DTEND;TZID=Europe/Prague:20221110T210000
DTSTAMP:20260421T104629
CREATED:20221101T074930Z
LAST-MODIFIED:20221101T074952Z
UID:121-1668081600-1668114000@dekanief.cz
SUMMARY:FES UPCE Dean's Committee; FES UPCE staff meeting
DESCRIPTION:
URL:https://dekanief.cz/en/event/gremium-dekana-fes-upce-setkani-zamestnancu-fes-upce/
END:VEVENT
BEGIN:VEVENT
DTSTART;TZID=Europe/Prague:20221102T000000
DTEND;TZID=Europe/Prague:20221103T235959
DTSTAMP:20260421T104629
CREATED:20221101T075109Z
LAST-MODIFIED:20221101T075109Z
UID:126-1667347200-1667519999@dekanief.cz
SUMMARY:Karviná Ph.D. Conference on Business and Economics
DESCRIPTION:
URL:https://dekanief.cz/en/event/karvina-ph-d-conference-on-business-and-economics/
END:VEVENT
BEGIN:VEVENT
DTSTART;TZID=Europe/Prague:20221006T000000
DTEND;TZID=Europe/Prague:20221007T235959
DTSTAMP:20260421T104629
CREATED:20220912T134254Z
LAST-MODIFIED:20220912T134254Z
UID:42-1665014400-1665187199@dekanief.cz
SUMMARY:2nd Meeting of the Association of Deans of Economic Faculties
DESCRIPTION:2nd meeting of the Association takes place from 6 to 7 October 2022 in Karviná (organized by SBA SU)
URL:https://dekanief.cz/en/event/2nd-meeting-of-the-association-of-deans-of-economic-faculties/
END:VEVENT
BEGIN:VEVENT
DTSTART;TZID=Europe/Prague:20221006T000000
DTEND;TZID=Europe/Prague:20221007T235959
DTSTAMP:20260421T104629
CREATED:20220912T134128Z
LAST-MODIFIED:20220922T065607Z
UID:38-1665014400-1665187199@dekanief.cz
SUMMARY:Conference “Economics Management Finance (EMF 2022)”
DESCRIPTION:International Scientific Conference \n“Economics Management Finance (EMF 2022)”\, 6 – 7 October 2022\,\nNew trends and challenges for academics and businessmen
URL:https://dekanief.cz/en/event/conference-economics-management-finance-emf-2022/
LOCATION:Faculty of Management and Economics of Tomas Bata University in Zlín
END:VEVENT
BEGIN:VEVENT
DTSTART;TZID=Europe/Prague:20220922T000000
DTEND;TZID=Europe/Prague:20220922T235959
DTSTAMP:20260421T104629
CREATED:20220912T133145Z
LAST-MODIFIED:20220912T133145Z
UID:31-1663804800-1663891199@dekanief.cz
SUMMARY:15th Anniversary of FE USB
DESCRIPTION:
URL:https://dekanief.cz/en/event/15th-anniversary-of-fe-usb/
LOCATION:Faculty of Economics\, University of South Bohemia in České Budějovice
END:VEVENT
END:VCALENDAR